BEGIN:VCALENDAR
VERSION:2.0
PRODID:-//Sophicity/Tribune/Brooks, GA
BEGIN:VEVENT
DTSTAMP:20260421T130853Z
UID:9384a7f8-5a0d-4244-8d53-2f4f28d97980-4043
DTSTART:20260518T223000Z
DTEND:20260518T233000Z
CLASS:PUBLIC
SUMMARY:Council Meeting 6:30 p.m.
END:VEVENT
END:VCALENDAR
